BEGIN:VCALENDAR
VERSION:2.0
PRODID:-//Oda Johansen - ECPv6.15.20//NONSGML v1.0//EN
CALSCALE:GREGORIAN
METHOD:PUBLISH
X-ORIGINAL-URL:https://odaloujohansen.com
X-WR-CALDESC:Events for Oda Johansen
REFRESH-INTERVAL;VALUE=DURATION:PT1H
X-Robots-Tag:noindex
X-PUBLISHED-TTL:PT1H
BEGIN:VTIMEZONE
TZID:Europe/Berlin
BEGIN:DAYLIGHT
TZOFFSETFROM:+0100
TZOFFSETTO:+0200
TZNAME:CEST
DTSTART:20250330T010000
END:DAYLIGHT
BEGIN:STANDARD
TZOFFSETFROM:+0200
TZOFFSETTO:+0100
TZNAME:CET
DTSTART:20251026T010000
END:STANDARD
BEGIN:DAYLIGHT
TZOFFSETFROM:+0100
TZOFFSETTO:+0200
TZNAME:CEST
DTSTART:20260329T010000
END:DAYLIGHT
BEGIN:STANDARD
TZOFFSETFROM:+0200
TZOFFSETTO:+0100
TZNAME:CET
DTSTART:20261025T010000
END:STANDARD
BEGIN:DAYLIGHT
TZOFFSETFROM:+0100
TZOFFSETTO:+0200
TZNAME:CEST
DTSTART:20270328T010000
END:DAYLIGHT
BEGIN:STANDARD
TZOFFSETFROM:+0200
TZOFFSETTO:+0100
TZNAME:CET
DTSTART:20271031T010000
END:STANDARD
END:VTIMEZONE
BEGIN:VEVENT
DTSTART;TZID=Europe/Berlin:20260425T143000
DTEND;TZID=Europe/Berlin:20260425T163000
DTSTAMP:20260423T174200
CREATED:20260115T113912Z
LAST-MODIFIED:20260115T113913Z
UID:373-1777127400-1777134600@odaloujohansen.com
SUMMARY:Die kleine Zauberflöte
DESCRIPTION:
URL:https://odaloujohansen.com/kalender/die-kleine-zauberflote-36/
LOCATION:Alleetheater Hamburg\, Max-Brauer-Allee 76/80 22765 Hamburg\, Hamburg\, 22765\, Germany
END:VEVENT
BEGIN:VEVENT
DTSTART;TZID=Europe/Berlin:20260426T143000
DTEND;TZID=Europe/Berlin:20260426T163000
DTSTAMP:20260423T174200
CREATED:20260115T114236Z
LAST-MODIFIED:20260115T114238Z
UID:375-1777213800-1777221000@odaloujohansen.com
SUMMARY:Die kleine Zauberflöte
DESCRIPTION:
URL:https://odaloujohansen.com/kalender/die-kleine-zauberflote-37/
LOCATION:Alleetheater Hamburg\, Max-Brauer-Allee 76/80 22765 Hamburg\, Hamburg\, 22765\, Germany
END:VEVENT
BEGIN:VEVENT
DTSTART;TZID=Europe/Berlin:20260429T093000
DTEND;TZID=Europe/Berlin:20260429T113000
DTSTAMP:20260423T174200
CREATED:20260115T114407Z
LAST-MODIFIED:20260115T114410Z
UID:377-1777455000-1777462200@odaloujohansen.com
SUMMARY:Die kleine zauberflöte
DESCRIPTION:
URL:https://odaloujohansen.com/kalender/die-kleine-zauberflote-38/
LOCATION:Alleetheater Hamburg\, Max-Brauer-Allee 76/80 22765 Hamburg\, Hamburg\, 22765\, Germany
END:VEVENT
BEGIN:VEVENT
DTSTART;TZID=Europe/Berlin:20260430T093000
DTEND;TZID=Europe/Berlin:20260430T113000
DTSTAMP:20260423T174200
CREATED:20260115T114541Z
LAST-MODIFIED:20260115T114542Z
UID:379-1777541400-1777548600@odaloujohansen.com
SUMMARY:Die kleine Zauberflöte
DESCRIPTION:
URL:https://odaloujohansen.com/kalender/die-kleine-zauberflote-39/
LOCATION:Alleetheater Hamburg\, Max-Brauer-Allee 76/80 22765 Hamburg\, Hamburg\, 22765\, Germany
END:VEVENT
BEGIN:VEVENT
DTSTART;TZID=Europe/Berlin:20260501T143000
DTEND;TZID=Europe/Berlin:20260501T163000
DTSTAMP:20260423T174200
CREATED:20260115T114721Z
LAST-MODIFIED:20260115T114722Z
UID:381-1777645800-1777653000@odaloujohansen.com
SUMMARY:Die kleine Zauberflöte
DESCRIPTION:
URL:https://odaloujohansen.com/kalender/die-kleine-zauberflote-40/
LOCATION:Alleetheater Hamburg\, Max-Brauer-Allee 76/80 22765 Hamburg\, Hamburg\, 22765\, Germany
END:VEVENT
BEGIN:VEVENT
DTSTART;TZID=Europe/Berlin:20260502T143000
DTEND;TZID=Europe/Berlin:20260502T163000
DTSTAMP:20260423T174200
CREATED:20260115T114859Z
LAST-MODIFIED:20260115T114901Z
UID:383-1777732200-1777739400@odaloujohansen.com
SUMMARY:Die kleine Zauberflöte
DESCRIPTION:
URL:https://odaloujohansen.com/kalender/die-kleine-zauberflote-41/
LOCATION:Alleetheater Hamburg\, Max-Brauer-Allee 76/80 22765 Hamburg\, Hamburg\, 22765\, Germany
END:VEVENT
BEGIN:VEVENT
DTSTART;TZID=Europe/Berlin:20260503T040000
DTEND;TZID=Europe/Berlin:20260503T043000
DTSTAMP:20260423T174200
CREATED:20260115T115038Z
LAST-MODIFIED:20260115T115140Z
UID:385-1777780800-1777782600@odaloujohansen.com
SUMMARY:Die kleine Zauberflöte
DESCRIPTION:
URL:https://odaloujohansen.com/kalender/die-kleinezauberflote/
LOCATION:Alleetheater Hamburg\, Max-Brauer-Allee 76/80 22765 Hamburg\, Hamburg\, 22765\, Germany
END:VEVENT
BEGIN:VEVENT
DTSTART;TZID=Europe/Berlin:20260509T143000
DTEND;TZID=Europe/Berlin:20260509T163000
DTSTAMP:20260423T174200
CREATED:20260115T115339Z
LAST-MODIFIED:20260115T115342Z
UID:387-1778337000-1778344200@odaloujohansen.com
SUMMARY:Die kleine Zauberflöte
DESCRIPTION:
URL:https://odaloujohansen.com/kalender/die-kleine-zauberflote-42/
LOCATION:Alleetheater Hamburg\, Max-Brauer-Allee 76/80 22765 Hamburg\, Hamburg\, 22765\, Germany
END:VEVENT
BEGIN:VEVENT
DTSTART;TZID=Europe/Berlin:20260510T143000
DTEND;TZID=Europe/Berlin:20260510T163000
DTSTAMP:20260423T174200
CREATED:20260115T115617Z
LAST-MODIFIED:20260115T115619Z
UID:390-1778423400-1778430600@odaloujohansen.com
SUMMARY:Die kleine Zauberflöte
DESCRIPTION:
URL:https://odaloujohansen.com/kalender/die-kleine-zauberflote-43/
LOCATION:Alleetheater Hamburg\, Max-Brauer-Allee 76/80 22765 Hamburg\, Hamburg\, 22765\, Germany
END:VEVENT
BEGIN:VEVENT
DTSTART;TZID=Europe/Berlin:20260516T143000
DTEND;TZID=Europe/Berlin:20260516T163000
DTSTAMP:20260423T174200
CREATED:20260115T115718Z
LAST-MODIFIED:20260115T115720Z
UID:392-1778941800-1778949000@odaloujohansen.com
SUMMARY:Die kleine Zauberflöte
DESCRIPTION:
URL:https://odaloujohansen.com/kalender/die-kleine-zauberflote-44/
LOCATION:Alleetheater Hamburg\, Max-Brauer-Allee 76/80 22765 Hamburg\, Hamburg\, 22765\, Germany
END:VEVENT
BEGIN:VEVENT
DTSTART;TZID=Europe/Berlin:20260517T143000
DTEND;TZID=Europe/Berlin:20260517T163000
DTSTAMP:20260423T174200
CREATED:20260115T115828Z
LAST-MODIFIED:20260115T115829Z
UID:394-1779028200-1779035400@odaloujohansen.com
SUMMARY:Die kleine Zauberflöte
DESCRIPTION:
URL:https://odaloujohansen.com/kalender/die-kleine-zauberflote-45/
LOCATION:Alleetheater Hamburg\, Max-Brauer-Allee 76/80 22765 Hamburg\, Hamburg\, 22765\, Germany
END:VEVENT
BEGIN:VEVENT
DTSTART;TZID=Europe/Berlin:20260523T143000
DTEND;TZID=Europe/Berlin:20260523T163000
DTSTAMP:20260423T174200
CREATED:20260115T120020Z
LAST-MODIFIED:20260115T120023Z
UID:396-1779546600-1779553800@odaloujohansen.com
SUMMARY:Die kleine Zauberflöte
DESCRIPTION:
URL:https://odaloujohansen.com/kalender/die-kleine-zauberflote-46/
LOCATION:Alleetheater Hamburg\, Max-Brauer-Allee 76/80 22765 Hamburg\, Hamburg\, 22765\, Germany
END:VEVENT
BEGIN:VEVENT
DTSTART;TZID=Europe/Berlin:20260524T040000
DTEND;TZID=Europe/Berlin:20260524T043000
DTSTAMP:20260423T174200
CREATED:20260115T120145Z
LAST-MODIFIED:20260115T120146Z
UID:398-1779595200-1779597000@odaloujohansen.com
SUMMARY:Die kleine Zauberflöte
DESCRIPTION:
URL:https://odaloujohansen.com/kalender/die-kleine-zauberflote-47/
LOCATION:Alleetheater Hamburg\, Max-Brauer-Allee 76/80 22765 Hamburg\, Hamburg\, 22765\, Germany
END:VEVENT
BEGIN:VEVENT
DTSTART;TZID=Europe/Berlin:20260530T143000
DTEND;TZID=Europe/Berlin:20260530T163000
DTSTAMP:20260423T174200
CREATED:20260115T120315Z
LAST-MODIFIED:20260115T120318Z
UID:400-1780151400-1780158600@odaloujohansen.com
SUMMARY:Die kleine Zauberflöte
DESCRIPTION:
URL:https://odaloujohansen.com/kalender/die-kleine-zauberflote-48/
LOCATION:Alleetheater Hamburg\, Max-Brauer-Allee 76/80 22765 Hamburg\, Hamburg\, 22765\, Germany
END:VEVENT
BEGIN:VEVENT
DTSTART;TZID=Europe/Berlin:20260531T143000
DTEND;TZID=Europe/Berlin:20260531T163000
DTSTAMP:20260423T174200
CREATED:20260115T120421Z
LAST-MODIFIED:20260115T120423Z
UID:402-1780237800-1780245000@odaloujohansen.com
SUMMARY:Die kleine Zauberflöte
DESCRIPTION:
URL:https://odaloujohansen.com/kalender/die-kleine-zauberflote-49/
LOCATION:Alleetheater Hamburg\, Max-Brauer-Allee 76/80 22765 Hamburg\, Hamburg\, 22765\, Germany
END:VEVENT
END:VCALENDAR